BEGIN:VCALENDAR
VERSION:2.0
PRODID:icalendar-ruby
CALSCALE:GREGORIAN
METHOD:PUBLISH
BEGIN:VEVENT
DTSTAMP:20260423T230515Z
UID:125-1192985@lutheranchurchofthegoodshepherd.com
DTSTART:20260920T170000Z
DTEND:20260920T180000Z
CLASS:PUBLIC
CREATED:20260423T160102
DESCRIPTION:Children ages 3 and up are welcome to join us each Sunday after
  service.
LAST-MODIFIED:20260423T160102
LOCATION:
SUMMARY:Sunday School
URL;VALUE=URI:https://www.lutheranchurchofthegoodshepherd.com/events/sunday
 -school--125/2026-09-20
ATTACH;FILENAME=Yellow and Blue Creative Colorful Pre-School Promotion Face
 book Post (1).png;FMTTYPE=image/png:https://dq5pwpg1q8ru0.cloudfront.net/2
 025/08/28/16/23/31/c1a94a61-8bd3-4545-b326-197523a807ef/Yellow%20and%20Blu
 e%20Creative%20Colorful%20Pre-School%20Promotion%20Facebook%20Post%20(1).p
 ng
END:VEVENT
END:VCALENDAR
